Package: PAIRADISE Version: 1.14.0 Command: /Library/Frameworks/R.framework/Resources/bin/R CMD check --install=check:PAIRADISE.install-out.txt --library=/Library/Frameworks/R.framework/Resources/library --no-vignettes --timings PAIRADISE_1.14.0.tar.gz StartedAt: 2023-04-10 21:43:41 -0400 (Mon, 10 Apr 2023) EndedAt: 2023-04-10 21:47:18 -0400 (Mon, 10 Apr 2023) EllapsedTime: 216.8 seconds RetCode: 0 Status: OK CheckDir: PAIRADISE.Rcheck Warnings: 0