Package: PAIRADISE Version: 1.14.0 Command: rm -rf PAIRADISE.buildbin-libdir && mkdir PAIRADISE.buildbin-libdir && /Users/biocbuild/BBS/utils/build-universal.sh PAIRADISE_1.14.0.tar.gz /Library/Frameworks/R.framework/Resources/bin/R PAIRADISE.buildbin-libdir StartedAt: 2023-04-10 23:56:05 -0400 (Mon, 10 Apr 2023) EndedAt: 2023-04-10 23:56:30 -0400 (Mon, 10 Apr 2023) EllapsedTime: 25.1 seconds RetCode: 0 Status: OK PackageFile: PAIRADISE_1.14.0.tgz PackageFileSize: 366.3 KiB