Package: PAIRADISE Version: 1.13.0 Command: rm -rf PAIRADISE.buildbin-libdir && mkdir PAIRADISE.buildbin-libdir && /Users/biocbuild/BBS/utils/build-universal.sh PAIRADISE_1.13.0.tar.gz /Library/Frameworks/R.framework/Resources/bin/R PAIRADISE.buildbin-libdir StartedAt: 2022-07-07 08:42:34 -0400 (Thu, 07 Jul 2022) EndedAt: 2022-07-07 08:43:10 -0400 (Thu, 07 Jul 2022) EllapsedTime: 36.3 seconds RetCode: 0 Status: OK PackageFile: PAIRADISE_1.13.0.tgz PackageFileSize: 366.2 KiB