Package: Oscope Version: 1.28.0 Command: chmod a+r Oscope -R && F:\biocbuild\bbs-3.16-bioc\R\bin\R.exe CMD build --keep-empty-dirs --no-resave-data Oscope StartedAt: 2023-04-10 20:22:16 -0400 (Mon, 10 Apr 2023) EndedAt: 2023-04-10 20:23:59 -0400 (Mon, 10 Apr 2023) EllapsedTime: 102.1 seconds RetCode: 0 Status: OK PackageFile: Oscope_1.28.0.tar.gz PackageFileSize: 1.162 MiB