Package: Organism.dplyr Version: 1.26.0 Command: /Library/Frameworks/R.framework/Resources/bin/R CMD INSTALL Organism.dplyr StartedAt: 2023-04-10 15:29:00 -0400 (Mon, 10 Apr 2023) EndedAt: 2023-04-10 15:29:42 -0400 (Mon, 10 Apr 2023) EllapsedTime: 42.8 seconds RetCode: 0 Status: OK