Package: ORFhunteR Version: 1.6.0 Command: /home/biocbuild/bbs-3.16-bioc/R/bin/R CMD build --keep-empty-dirs --no-resave-data ORFhunteR StartedAt: 2023-04-10 17:31:02 -0400 (Mon, 10 Apr 2023) EndedAt: 2023-04-10 17:36:20 -0400 (Mon, 10 Apr 2023) EllapsedTime: 318.2 seconds RetCode: 0 Status: OK PackageFile: ORFhunteR_1.6.0.tar.gz PackageFileSize: 1.839 MiB