Package: OCplus Version: 1.72.0 Command: /home/biocbuild/bbs-3.16-bioc/R/bin/R CMD INSTALL OCplus StartedAt: 2023-04-10 15:10:40 -0400 (Mon, 10 Apr 2023) EndedAt: 2023-04-10 15:10:48 -0400 (Mon, 10 Apr 2023) EllapsedTime: 7.5 seconds RetCode: 0 Status: OK