Package: OCplus Version: 1.72.0 Command: /home/biocbuild/bbs-3.16-bioc/R/bin/R CMD check --install=check:OCplus.install-out.txt --library=/home/biocbuild/bbs-3.16-bioc/R/site-library --timings OCplus_1.72.0.tar.gz StartedAt: 2023-04-10 22:25:04 -0400 (Mon, 10 Apr 2023) EndedAt: 2023-04-10 22:26:47 -0400 (Mon, 10 Apr 2023) EllapsedTime: 103.7 seconds RetCode: 0 Status: OK CheckDir: OCplus.Rcheck Warnings: 0