Package: OCplus Version: 1.72.0 Command: /Library/Frameworks/R.framework/Resources/bin/R CMD check --install=check:OCplus.install-out.txt --library=/Library/Frameworks/R.framework/Resources/library --no-vignettes --timings OCplus_1.72.0.tar.gz StartedAt: 2023-04-10 21:35:21 -0400 (Mon, 10 Apr 2023) EndedAt: 2023-04-10 21:36:32 -0400 (Mon, 10 Apr 2023) EllapsedTime: 71.7 seconds RetCode: 0 Status: OK CheckDir: OCplus.Rcheck Warnings: 0