Package: NxtIRFcore Version: 1.4.0 Command: /home/biocbuild/bbs-3.16-bioc/R/bin/R CMD INSTALL NxtIRFcore StartedAt: 2023-04-10 15:46:39 -0400 (Mon, 10 Apr 2023) EndedAt: 2023-04-10 15:48:53 -0400 (Mon, 10 Apr 2023) EllapsedTime: 134.2 seconds RetCode: 0 Status: OK