Package: NoRCE Version: 1.10.0 Command: /home/biocbuild/bbs-3.16-bioc/R/bin/R CMD check --install=check:NoRCE.install-out.txt --library=/home/biocbuild/bbs-3.16-bioc/R/site-library --timings NoRCE_1.10.0.tar.gz StartedAt: 2023-04-10 22:22:05 -0400 (Mon, 10 Apr 2023) EndedAt: 2023-04-10 22:26:28 -0400 (Mon, 10 Apr 2023) EllapsedTime: 262.1 seconds RetCode: 0 Status: OK CheckDir: NoRCE.Rcheck Warnings: 0