Package: NanoStringDiff Version: 1.28.0 Command: /home/biocbuild/bbs-3.16-bioc/R/bin/R CMD build --keep-empty-dirs --no-resave-data NanoStringDiff StartedAt: 2023-04-10 17:23:39 -0400 (Mon, 10 Apr 2023) EndedAt: 2023-04-10 17:24:00 -0400 (Mon, 10 Apr 2023) EllapsedTime: 21.3 seconds RetCode: 0 Status: OK PackageFile: NanoStringDiff_1.28.0.tar.gz PackageFileSize: 273.5 KiB