Package: NanoStringDiff Version: 1.27.0 Command: /Library/Frameworks/R.framework/Resources/bin/R CMD build --keep-empty-dirs --no-resave-data NanoStringDiff StartedAt: 2022-07-07 00:55:21 -0400 (Thu, 07 Jul 2022) EndedAt: 2022-07-07 00:55:50 -0400 (Thu, 07 Jul 2022) EllapsedTime: 29.3 seconds RetCode: 0 Status: OK PackageFile: NanoStringDiff_1.27.0.tar.gz PackageFileSize: 414.4 KiB