Package: NTW Version: 1.48.0 Command: /home/biocbuild/bbs-3.16-bioc/R/bin/R CMD check --install=check:NTW.install-out.txt --library=/home/biocbuild/bbs-3.16-bioc/R/site-library --timings NTW_1.48.0.tar.gz StartedAt: 2023-04-10 22:23:35 -0400 (Mon, 10 Apr 2023) EndedAt: 2023-04-10 22:24:11 -0400 (Mon, 10 Apr 2023) EllapsedTime: 36.4 seconds RetCode: 0 Status: WARNINGS CheckDir: NTW.Rcheck Warnings: 1