Package: NBSplice Version: 1.15.0 Command: F:\biocbuild\bbs-3.16-bioc\R\bin\R.exe CMD check --force-multiarch --install=check:NBSplice.install-out.txt --library=F:\biocbuild\bbs-3.16-bioc\R\library --no-vignettes --timings NBSplice_1.15.0.tar.gz StartedAt: 2022-07-08 03:57:15 -0400 (Fri, 08 Jul 2022) EndedAt: 2022-07-08 04:00:12 -0400 (Fri, 08 Jul 2022) EllapsedTime: 177.0 seconds RetCode: 0 Status: OK CheckDir: NBSplice.Rcheck Warnings: 0