Package: NBSplice Version: 1.16.0 Command: chmod a+r NBSplice -R && F:\biocbuild\bbs-3.16-bioc\R\bin\R.exe CMD build --keep-empty-dirs --no-resave-data NBSplice StartedAt: 2023-04-10 20:08:50 -0400 (Mon, 10 Apr 2023) EndedAt: 2023-04-10 20:08:52 -0400 (Mon, 10 Apr 2023) EllapsedTime: 2.3 seconds RetCode: 1 Status: ERROR PackageFile: None PackageFileSize: NA