Package: NBSplice Version: 1.15.0 Command: rm -rf NBSplice.buildbin-libdir && mkdir NBSplice.buildbin-libdir && /Users/biocbuild/BBS/utils/build-universal.sh NBSplice_1.15.0.tar.gz /Library/Frameworks/R.framework/Resources/bin/R NBSplice.buildbin-libdir StartedAt: 2022-07-19 23:40:47 -0400 (Tue, 19 Jul 2022) EndedAt: 2022-07-19 23:40:58 -0400 (Tue, 19 Jul 2022) EllapsedTime: 11.1 seconds RetCode: 0 Status: OK PackageFile: NBSplice_1.15.0.tgz PackageFileSize: 998.6 KiB