Package: MungeSumstats Version: 1.6.0 Command: /home/biocbuild/bbs-3.16-bioc/R/bin/R CMD build --keep-empty-dirs --no-resave-data MungeSumstats StartedAt: 2023-04-10 17:23:05 -0400 (Mon, 10 Apr 2023) EndedAt: 2023-04-10 17:24:11 -0400 (Mon, 10 Apr 2023) EllapsedTime: 65.7 seconds RetCode: 0 Status: OK PackageFile: MungeSumstats_1.6.0.tar.gz PackageFileSize: 2.26 MiB