Package: MiRaGE Version: 1.40.0 Command: /Library/Frameworks/R.framework/Resources/bin/R CMD check --install=check:MiRaGE.install-out.txt --library=/Library/Frameworks/R.framework/Resources/library --no-vignettes --timings MiRaGE_1.40.0.tar.gz StartedAt: 2023-04-10 21:15:04 -0400 (Mon, 10 Apr 2023) EndedAt: 2023-04-10 21:16:44 -0400 (Mon, 10 Apr 2023) EllapsedTime: 99.5 seconds RetCode: 0 Status: WARNINGS CheckDir: MiRaGE.Rcheck Warnings: 1