Package: MethCP Version: 1.12.0 Command: /home/biocbuild/bbs-3.16-bioc/R/bin/R CMD check --install=check:MethCP.install-out.txt --library=/home/biocbuild/bbs-3.16-bioc/R/site-library --timings MethCP_1.12.0.tar.gz StartedAt: 2023-04-10 21:50:42 -0400 (Mon, 10 Apr 2023) EndedAt: 2023-04-10 22:00:04 -0400 (Mon, 10 Apr 2023) EllapsedTime: 562.2 seconds RetCode: 1 Status: ERROR CheckDir: MethCP.Rcheck Warnings: NA