Package: MethCP Version: 1.12.0 Command: /Library/Frameworks/R.framework/Resources/bin/R CMD check --install=check:MethCP.install-out.txt --library=/Library/Frameworks/R.framework/Resources/library --no-vignettes --timings MethCP_1.12.0.tar.gz StartedAt: 2023-04-10 21:07:06 -0400 (Mon, 10 Apr 2023) EndedAt: 2023-04-10 21:12:04 -0400 (Mon, 10 Apr 2023) EllapsedTime: 298.4 seconds RetCode: 1 Status: ERROR CheckDir: MethCP.Rcheck Warnings: NA