Package: MetaNeighbor Version: 1.18.0 Command: rm -rf MetaNeighbor.buildbin-libdir && mkdir MetaNeighbor.buildbin-libdir && /Users/biocbuild/BBS/utils/build-universal.sh MetaNeighbor_1.18.0.tar.gz /Library/Frameworks/R.framework/Resources/bin/R MetaNeighbor.buildbin-libdir StartedAt: 2023-04-10 23:51:09 -0400 (Mon, 10 Apr 2023) EndedAt: 2023-04-10 23:51:15 -0400 (Mon, 10 Apr 2023) EllapsedTime: 6.7 seconds RetCode: 0 Status: OK PackageFile: MetaNeighbor_1.18.0.tgz PackageFileSize: 4.143 MiB