Package: MetaCyto Version: 1.20.0 Command: /home/biocbuild/bbs-3.16-bioc/R/bin/R CMD check --install=check:MetaCyto.install-out.txt --library=/home/biocbuild/bbs-3.16-bioc/R/site-library --timings MetaCyto_1.20.0.tar.gz StartedAt: 2023-04-10 21:48:54 -0400 (Mon, 10 Apr 2023) EndedAt: 2023-04-10 21:57:58 -0400 (Mon, 10 Apr 2023) EllapsedTime: 543.8 seconds RetCode: 0 Status: OK CheckDir: MetaCyto.Rcheck Warnings: 0