Package: MetaCyto Version: 1.20.0 Command: rm -rf MetaCyto.buildbin-libdir && mkdir MetaCyto.buildbin-libdir && /Users/biocbuild/BBS/utils/build-universal.sh MetaCyto_1.20.0.tar.gz /Library/Frameworks/R.framework/Resources/bin/R MetaCyto.buildbin-libdir StartedAt: 2023-04-10 23:51:04 -0400 (Mon, 10 Apr 2023) EndedAt: 2023-04-10 23:51:23 -0400 (Mon, 10 Apr 2023) EllapsedTime: 19.2 seconds RetCode: 0 Status: OK PackageFile: MetaCyto_1.20.0.tgz PackageFileSize: 1.028 MiB