Package: MeasurementError.cor Version: 1.70.0 Command: F:\biocbuild\bbs-3.16-bioc\R\bin\R.exe CMD INSTALL MeasurementError.cor StartedAt: 2023-04-10 15:29:05 -0400 (Mon, 10 Apr 2023) EndedAt: 2023-04-10 15:29:34 -0400 (Mon, 10 Apr 2023) EllapsedTime: 28.9 seconds RetCode: 0 Status: OK