Package: MeasurementError.cor Version: 1.70.0 Command: F:\biocbuild\bbs-3.16-bioc\R\bin\R.exe CMD check --no-multiarch --install=check:MeasurementError.cor.install-out.txt --library=F:\biocbuild\bbs-3.16-bioc\R\library --no-vignettes --timings MeasurementError.cor_1.70.0.tar.gz StartedAt: 2023-04-11 03:02:53 -0400 (Tue, 11 Apr 2023) EndedAt: 2023-04-11 03:03:20 -0400 (Tue, 11 Apr 2023) EllapsedTime: 26.7 seconds RetCode: 0 Status: OK CheckDir: MeasurementError.cor.Rcheck Warnings: 0