Package: MeasurementError.cor Version: 1.70.0 Command: chmod a+r MeasurementError.cor -R && F:\biocbuild\bbs-3.16-bioc\R\bin\R.exe CMD build --keep-empty-dirs --no-resave-data MeasurementError.cor StartedAt: 2023-04-10 19:37:16 -0400 (Mon, 10 Apr 2023) EndedAt: 2023-04-10 19:37:30 -0400 (Mon, 10 Apr 2023) EllapsedTime: 14.7 seconds RetCode: 0 Status: OK PackageFile: MeasurementError.cor_1.70.0.tar.gz PackageFileSize: 47.22 KiB