Package: MeasurementError.cor Version: 1.70.0 Command: rm -rf MeasurementError.cor.buildbin-libdir && mkdir MeasurementError.cor.buildbin-libdir && F:\biocbuild\bbs-3.16-bioc\R\bin\R.exe CMD INSTALL --build --library=MeasurementError.cor.buildbin-libdir MeasurementError.cor_1.70.0.tar.gz StartedAt: 2023-04-11 08:15:59 -0400 (Tue, 11 Apr 2023) EndedAt: 2023-04-11 08:16:06 -0400 (Tue, 11 Apr 2023) EllapsedTime: 7.5 seconds RetCode: 0 Status: OK PackageFile: MeasurementError.cor_1.70.0.zip PackageFileSize: 73.94 KiB