Package: MatrixRider Version: 1.30.0 Command: F:\biocbuild\bbs-3.16-bioc\R\bin\R.exe CMD INSTALL MatrixRider StartedAt: 2023-04-10 16:32:23 -0400 (Mon, 10 Apr 2023) EndedAt: 2023-04-10 16:33:14 -0400 (Mon, 10 Apr 2023) EllapsedTime: 50.7 seconds RetCode: 0 Status: OK