Package: MatrixRider Version: 1.30.0 Command: /home/biocbuild/bbs-3.16-bioc/R/bin/R CMD build --keep-empty-dirs --no-resave-data MatrixRider StartedAt: 2023-04-10 17:09:25 -0400 (Mon, 10 Apr 2023) EndedAt: 2023-04-10 17:10:22 -0400 (Mon, 10 Apr 2023) EllapsedTime: 57.8 seconds RetCode: 0 Status: OK PackageFile: MatrixRider_1.30.0.tar.gz PackageFileSize: 250.7 KiB