Package: MassSpecWavelet Version: 1.64.1 Command: /Library/Frameworks/R.framework/Resources/bin/R CMD INSTALL MassSpecWavelet StartedAt: 2023-04-10 15:03:57 -0400 (Mon, 10 Apr 2023) EndedAt: 2023-04-10 15:04:06 -0400 (Mon, 10 Apr 2023) EllapsedTime: 9.0 seconds RetCode: 0 Status: OK