Package: MVCClass Version: 1.72.0 Command: /home/biocbuild/bbs-3.16-bioc/R/bin/R CMD build --keep-empty-dirs --no-resave-data MVCClass StartedAt: 2023-04-10 17:23:24 -0400 (Mon, 10 Apr 2023) EndedAt: 2023-04-10 17:23:29 -0400 (Mon, 10 Apr 2023) EllapsedTime: 5.6 seconds RetCode: 0 Status: OK PackageFile: MVCClass_1.72.0.tar.gz PackageFileSize: 1.028 MiB