Package: MSstatsTMT Version: 2.6.1 Command: /Library/Frameworks/R.framework/Resources/bin/R CMD check --install=check:MSstatsTMT.install-out.txt --library=/Library/Frameworks/R.framework/Resources/library --no-vignettes --timings MSstatsTMT_2.6.1.tar.gz StartedAt: 2023-04-10 21:25:51 -0400 (Mon, 10 Apr 2023) EndedAt: 2023-04-10 21:28:00 -0400 (Mon, 10 Apr 2023) EllapsedTime: 129.4 seconds RetCode: 0 Status: OK CheckDir: MSstatsTMT.Rcheck Warnings: 0