Package: MSstatsPTM Version: 2.0.3 Command: chmod a+r MSstatsPTM -R && F:\biocbuild\bbs-3.16-bioc\R\bin\R.exe CMD build --keep-empty-dirs --no-resave-data MSstatsPTM StartedAt: 2023-04-10 20:03:01 -0400 (Mon, 10 Apr 2023) EndedAt: 2023-04-10 20:04:31 -0400 (Mon, 10 Apr 2023) EllapsedTime: 90.8 seconds RetCode: 0 Status: OK PackageFile: MSstatsPTM_2.0.3.tar.gz PackageFileSize: 1001 KiB