Package: MSstatsPTM Version: 2.0.3 Command: rm -rf MSstatsPTM.buildbin-libdir && mkdir MSstatsPTM.buildbin-libdir && F:\biocbuild\bbs-3.16-bioc\R\bin\R.exe CMD INSTALL --build --library=MSstatsPTM.buildbin-libdir MSstatsPTM_2.0.3.tar.gz StartedAt: 2023-04-11 08:22:05 -0400 (Tue, 11 Apr 2023) EndedAt: 2023-04-11 08:22:58 -0400 (Tue, 11 Apr 2023) EllapsedTime: 52.9 seconds RetCode: 0 Status: OK PackageFile: MSstatsPTM_2.0.3.zip PackageFileSize: 1.691 MiB