Package: MOSim Version: 1.11.0 Command: /Library/Frameworks/R.framework/Resources/bin/R CMD build --keep-empty-dirs --no-resave-data MOSim StartedAt: 2022-07-07 00:39:57 -0400 (Thu, 07 Jul 2022) EndedAt: 2022-07-07 00:41:28 -0400 (Thu, 07 Jul 2022) EllapsedTime: 91.3 seconds RetCode: 0 Status: OK PackageFile: MOSim_1.11.0.tar.gz PackageFileSize: 4.527 MiB