Package: MODA Version: 1.23.0 Command: /Library/Frameworks/R.framework/Resources/bin/R CMD INSTALL MODA StartedAt: 2022-07-10 16:33:02 -0400 (Sun, 10 Jul 2022) EndedAt: 2022-07-10 16:33:45 -0400 (Sun, 10 Jul 2022) EllapsedTime: 42.5 seconds RetCode: 0 Status: OK