Package: MMAPPR2 Version: 1.12.0 Command: /home/biocbuild/bbs-3.16-bioc/R/bin/R CMD build --keep-empty-dirs --no-resave-data MMAPPR2 StartedAt: 2023-04-10 17:17:52 -0400 (Mon, 10 Apr 2023) EndedAt: 2023-04-10 17:19:23 -0400 (Mon, 10 Apr 2023) EllapsedTime: 91.1 seconds RetCode: 0 Status: OK PackageFile: MMAPPR2_1.12.0.tar.gz PackageFileSize: 391 KiB