Package: MMAPPR2 Version: 1.11.0 Command: /Library/Frameworks/R.framework/Resources/bin/R CMD INSTALL MMAPPR2 StartedAt: 2022-07-10 19:00:50 -0400 (Sun, 10 Jul 2022) EndedAt: 2022-07-10 19:00:51 -0400 (Sun, 10 Jul 2022) EllapsedTime: 1.1 seconds RetCode: 1 Status: ERROR