############################################################################## ############################################################################## ### ### Running command: ### ### /Library/Frameworks/R.framework/Resources/bin/R CMD INSTALL MMAPPR2 ### ############################################################################## ############################################################################## * installing to library ‘/Library/Frameworks/R.framework/Versions/4.2-arm64/Resources/library’ ERROR: dependencies ‘ensemblVEP’, ‘gmapR’, ‘VariantAnnotation’, ‘VariantTools’ are not available for package ‘MMAPPR2’ * removing ‘/Library/Frameworks/R.framework/Versions/4.2-arm64/Resources/library/MMAPPR2’