Package: MLInterfaces Version: 1.77.0 Command: /Library/Frameworks/R.framework/Resources/bin/R CMD INSTALL MLInterfaces StartedAt: 2022-07-10 19:38:51 -0400 (Sun, 10 Jul 2022) EndedAt: 2022-07-10 19:39:37 -0400 (Sun, 10 Jul 2022) EllapsedTime: 45.8 seconds RetCode: 0 Status: OK