Package: MAIT Version: 1.32.0 Command: /Library/Frameworks/R.framework/Resources/bin/R CMD INSTALL MAIT StartedAt: 2023-04-10 15:28:06 -0400 (Mon, 10 Apr 2023) EndedAt: 2023-04-10 15:28:58 -0400 (Mon, 10 Apr 2023) EllapsedTime: 52.0 seconds RetCode: 0 Status: OK