Package: MAI Version: 1.3.0 Command: rm -rf MAI.buildbin-libdir && mkdir MAI.buildbin-libdir && /Users/biocbuild/BBS/utils/build-universal.sh MAI_1.3.0.tar.gz /Library/Frameworks/R.framework/Resources/bin/R MAI.buildbin-libdir StartedAt: 2022-07-07 08:21:14 -0400 (Thu, 07 Jul 2022) EndedAt: 2022-07-07 08:21:58 -0400 (Thu, 07 Jul 2022) EllapsedTime: 43.4 seconds RetCode: 0 Status: OK PackageFile: MAI_1.3.0.tgz PackageFileSize: 483.3 KiB