Package: MAGeCKFlute Version: 2.2.0 Command: /Library/Frameworks/R.framework/Resources/bin/R CMD check --install=check:MAGeCKFlute.install-out.txt --library=/Library/Frameworks/R.framework/Resources/library --no-vignettes --timings MAGeCKFlute_2.2.0.tar.gz StartedAt: 2023-04-10 20:58:41 -0400 (Mon, 10 Apr 2023) EndedAt: 2023-04-10 21:02:40 -0400 (Mon, 10 Apr 2023) EllapsedTime: 239.4 seconds RetCode: 0 Status: OK CheckDir: MAGeCKFlute.Rcheck Warnings: 0