Package: M3C Version: 1.20.0 Command: rm -rf M3C.buildbin-libdir && mkdir M3C.buildbin-libdir && F:\biocbuild\bbs-3.16-bioc\R\bin\R.exe CMD INSTALL --build --library=M3C.buildbin-libdir M3C_1.20.0.tar.gz StartedAt: 2023-04-11 08:14:15 -0400 (Tue, 11 Apr 2023) EndedAt: 2023-04-11 08:14:40 -0400 (Tue, 11 Apr 2023) EllapsedTime: 25.1 seconds RetCode: 0 Status: OK PackageFile: M3C_1.20.0.zip PackageFileSize: 760.3 KiB