Package: M3C Version: 1.19.0 Command: rm -rf M3C.buildbin-libdir && mkdir M3C.buildbin-libdir && /Users/biocbuild/BBS/utils/build-universal.sh M3C_1.19.0.tar.gz /Library/Frameworks/R.framework/Resources/bin/R M3C.buildbin-libdir StartedAt: 2022-07-07 08:20:46 -0400 (Thu, 07 Jul 2022) EndedAt: 2022-07-07 08:21:00 -0400 (Thu, 07 Jul 2022) EllapsedTime: 14.3 seconds RetCode: 0 Status: OK PackageFile: M3C_1.19.0.tgz PackageFileSize: 752.9 KiB