Package: LiquidAssociation Version: 1.52.0 Command: /Library/Frameworks/R.framework/Resources/bin/R CMD check --install=check:LiquidAssociation.install-out.txt --library=/Library/Frameworks/R.framework/Resources/library --no-vignettes --timings LiquidAssociation_1.52.0.tar.gz StartedAt: 2023-04-10 20:55:34 -0400 (Mon, 10 Apr 2023) EndedAt: 2023-04-10 20:57:17 -0400 (Mon, 10 Apr 2023) EllapsedTime: 103.6 seconds RetCode: 0 Status: OK CheckDir: LiquidAssociation.Rcheck Warnings: 0