Package: LineagePulse Version: 1.17.0 Command: /Library/Frameworks/R.framework/Resources/bin/R CMD build --keep-empty-dirs --no-resave-data LineagePulse StartedAt: 2022-07-06 23:21:28 -0400 (Wed, 06 Jul 2022) EndedAt: 2022-07-06 23:22:26 -0400 (Wed, 06 Jul 2022) EllapsedTime: 58.8 seconds RetCode: 0 Status: OK PackageFile: LineagePulse_1.17.0.tar.gz PackageFileSize: 396.7 KiB