Package: LinTInd Version: 1.2.0 Command: chmod a+r LinTInd -R && F:\biocbuild\bbs-3.16-bioc\R\bin\R.exe CMD build --keep-empty-dirs --no-resave-data LinTInd StartedAt: 2023-04-10 19:29:43 -0400 (Mon, 10 Apr 2023) EndedAt: 2023-04-10 19:30:36 -0400 (Mon, 10 Apr 2023) EllapsedTime: 52.4 seconds RetCode: 0 Status: OK PackageFile: LinTInd_1.2.0.tar.gz PackageFileSize: 1.454 MiB