Package: LinTInd Version: 1.2.0 Command: /Library/Frameworks/R.framework/Resources/bin/R CMD build --keep-empty-dirs --no-resave-data LinTInd StartedAt: 2023-04-10 16:57:47 -0400 (Mon, 10 Apr 2023) EndedAt: 2023-04-10 16:58:32 -0400 (Mon, 10 Apr 2023) EllapsedTime: 45.3 seconds RetCode: 0 Status: OK PackageFile: LinTInd_1.2.0.tar.gz PackageFileSize: 1.514 MiB